BEGIN:VCALENDAR
VERSION:2.0
PRODID:-//bailaragusto.com - ECPv6.15.20//NONSGML v1.0//EN
CALSCALE:GREGORIAN
METHOD:PUBLISH
X-ORIGINAL-URL:https://bailaragusto.com
X-WR-CALDESC:Events for bailaragusto.com
REFRESH-INTERVAL;VALUE=DURATION:PT1H
X-Robots-Tag:noindex
X-PUBLISHED-TTL:PT1H
BEGIN:VTIMEZONE
TZID:Europe/Berlin
BEGIN:DAYLIGHT
TZOFFSETFROM:+0100
TZOFFSETTO:+0200
TZNAME:CEST
DTSTART:20250330T010000
END:DAYLIGHT
BEGIN:STANDARD
TZOFFSETFROM:+0200
TZOFFSETTO:+0100
TZNAME:CET
DTSTART:20251026T010000
END:STANDARD
BEGIN:DAYLIGHT
TZOFFSETFROM:+0100
TZOFFSETTO:+0200
TZNAME:CEST
DTSTART:20260329T010000
END:DAYLIGHT
BEGIN:STANDARD
TZOFFSETFROM:+0200
TZOFFSETTO:+0100
TZNAME:CET
DTSTART:20261025T010000
END:STANDARD
BEGIN:DAYLIGHT
TZOFFSETFROM:+0100
TZOFFSETTO:+0200
TZNAME:CEST
DTSTART:20270328T010000
END:DAYLIGHT
BEGIN:STANDARD
TZOFFSETFROM:+0200
TZOFFSETTO:+0100
TZNAME:CET
DTSTART:20271031T010000
END:STANDARD
END:VTIMEZONE
BEGIN:VEVENT
DTSTART;VALUE=DATE:20260605
DTEND;VALUE=DATE:20260609
DTSTAMP:20260425T221217
CREATED:20251113T193234Z
LAST-MODIFIED:20251113T194042Z
UID:111-1780617600-1780963199@bailaragusto.com
SUMMARY:Summer Bachata Festival Rovinj 2026
DESCRIPTION:The official sale for SBF 2026 is now live! \nFrom today\, you can secure your spot through our webshop or get an even better deal via our ambassadors. Choose the pass that fits your dance vibe best – Full Pass or Party Pass – and don’t forget to check the pass legend to see what’s included in each. \nAnd the best part? You can extend your stay to a full 11 days of dancing under the Rovinj sun! Right after SBF\, the legendary Croatian Summer Salsa Festival (CSSF) takes over with even more music\, magic\, and bachata. With our special 2-in-1 pass\, you can seamlessly slide from one festival into the next – doubling the sunshine\, friendships\, and memories. \nThis is more than just a festival – it’s our summer Bachata Family Reunion. \nSave the dates: 05–08 June 2026\n  \nSend a short email with your name and desired ticket to info@bailaragusto.com and get a discount of €10 to €40! \n 
URL:https://bailaragusto.com/event/summer-bachata-festival-rovinj-2026/
LOCATION:Adris Old Tobacco Factory\, Obala Vladimira Nazora 1\, Rovinj\, 52210\, Croatia (Local Name: Hrvatska)
CATEGORIES:Festivals
ATTACH;FMTTYPE=image/jpeg:https://bailaragusto.com/wp-content/uploads/2025/11/summerbachata_rovinj.jpg
END:VEVENT
END:VCALENDAR