BEGIN:VCALENDAR
VERSION:2.0
PRODID:-//bailaragusto.com - ECPv6.15.20//NONSGML v1.0//EN
CALSCALE:GREGORIAN
METHOD:PUBLISH
X-WR-CALNAME:bailaragusto.com
X-ORIGINAL-URL:https://bailaragusto.com
X-WR-CALDESC:Events for bailaragusto.com
REFRESH-INTERVAL;VALUE=DURATION:PT1H
X-Robots-Tag:noindex
X-PUBLISHED-TTL:PT1H
BEGIN:VTIMEZONE
TZID:Europe/Berlin
BEGIN:DAYLIGHT
TZOFFSETFROM:+0100
TZOFFSETTO:+0200
TZNAME:CEST
DTSTART:20240331T010000
END:DAYLIGHT
BEGIN:STANDARD
TZOFFSETFROM:+0200
TZOFFSETTO:+0100
TZNAME:CET
DTSTART:20241027T010000
END:STANDARD
BEGIN:DAYLIGHT
TZOFFSETFROM:+0100
TZOFFSETTO:+0200
TZNAME:CEST
DTSTART:20250330T010000
END:DAYLIGHT
BEGIN:STANDARD
TZOFFSETFROM:+0200
TZOFFSETTO:+0100
TZNAME:CET
DTSTART:20251026T010000
END:STANDARD
BEGIN:DAYLIGHT
TZOFFSETFROM:+0100
TZOFFSETTO:+0200
TZNAME:CEST
DTSTART:20260329T010000
END:DAYLIGHT
BEGIN:STANDARD
TZOFFSETFROM:+0200
TZOFFSETTO:+0100
TZNAME:CET
DTSTART:20261025T010000
END:STANDARD
BEGIN:DAYLIGHT
TZOFFSETFROM:+0100
TZOFFSETTO:+0200
TZNAME:CEST
DTSTART:20270328T010000
END:DAYLIGHT
BEGIN:STANDARD
TZOFFSETFROM:+0200
TZOFFSETTO:+0100
TZNAME:CET
DTSTART:20271031T010000
END:STANDARD
END:VTIMEZONE
BEGIN:VEVENT
DTSTART;TZID=Europe/Berlin:20260114T080000
DTEND;TZID=Europe/Berlin:20260119T070000
DTSTAMP:20260426T020654
CREATED:20251113T190200Z
LAST-MODIFIED:20251113T190200Z
UID:98-1768377600-1768806000@bailaragusto.com
SUMMARY: BACHATA SENSUAL WORLD CONGRESS 2026 (BSWC)
DESCRIPTION:📍 BACHATA SENSUAL WORLD CONGRESS 2026 (BSWC)\n🗓 14 – 19TH JANUARY 2025 – PUNTA UMBRIA\, HUELVA (SEVILLA\, ANDALUCIA SPAIN)\n🔥 Promo Discount Available\n🆕 IMPORTANT! Change of Date. Venue also continues in Andalucia – Huelva. \n4th edition of Bachata Sensual World Congress. The 2026 Congress\, The #1 Bachata Sensual Event in the world\, by Korke & Judit will repeat this year again in Punta Umbria\, huelva\, Andalucia instead of their original in Lloret de Mar (Costa Brava). The newest edition will bring some updates: with a Jack & Jill Sensual competition\, concert and more hours of Socials to gather fans of Bachata Sensual from all over the world. You will be able to meet top level social dancers & instructors from all over the world. It’s still a not-to-be-missed in our list. \nExperience something unparalleled: \n\nMasterclasses and high-level training taught by the pioneers of Bachata Sensual.\n14 hours of day socials every day – Keep dancing all day (and all night ?).\nSurprise shows + J&J Finals.\nAfterparty for the unstoppable dancers – Until 9 AM! ?\nThis year\, don’t just hear about it—be there!\n\nThe event kicks off with the Official Pre-Party on January 14 at the event’s hotel. \nBook the hotel: https://www.goandance.com/es/eventos/8052-bswc-2026-hotel-reserva \nMore info on our official website: www.bswcongress.com
URL:https://bailaragusto.com/event/bachata-sensual-world-congress-2026-bswc/
LOCATION:Barceló Punta Umbría Mar\, Av. del Océano\, s/n\, Punta Umbría\, Huelva\, 21100\, Spain
CATEGORIES:Festivals
ATTACH;FMTTYPE=image/jpeg:https://bailaragusto.com/wp-content/uploads/2025/11/BSWC_2026.jpg
END:VEVENT
BEGIN:VEVENT
DTSTART;TZID=Europe/Berlin:20250815T220000
DTEND;TZID=Europe/Berlin:20250818T060000
DTSTAMP:20260426T020654
CREATED:20250315T083113Z
LAST-MODIFIED:20250320T104407Z
UID:59-1755295200-1755496800@bailaragusto.com
SUMMARY:POLAND BACHATURO FESTIVAL - August 2025
DESCRIPTION:The Bachaturo Festival is drawing closer. \nThe 15th edition of this incredible event is set for August 15-17\, 2025 in Katowice. Bachaturo is the ideal spot for those who love to dance and connect with people from around the world who share similar passions. \nThe Bachaturo Festival offers a unique opportunity to learn salsa\, bachata\, kizomba\, urban kiz\, and Cuban salsa under the guidance of the most respected instructors. \nNot only will you have the chance to participate in world-class dance classes\, but you will also get to admire the captivating performances of our Artists. Whether you are an intermediate or an experienced dancer\, we promise an unforgettable experience. \n  \nTickets: https://tickets.bachaturo.com/en/\nCode: Gustavo \nplac Sławika i Antalla 1\, 40-163 Katowice\, Poland
URL:https://bailaragusto.com/event/poland-bachaturo-festival-august-2025/
LOCATION:Katowice International Conference Centre\, plac Sławika i Antalla 1\, 40-163\, Katowice\,\, Poland\, Poland
CATEGORIES:Festivals
ATTACH;FMTTYPE=image/png:https://bailaragusto.com/wp-content/uploads/2025/03/bachaturo.png
END:VEVENT
BEGIN:VEVENT
DTSTART;TZID=Europe/Berlin:20250725T150000
DTEND;TZID=Europe/Berlin:20250728T070000
DTSTAMP:20260426T020654
CREATED:20250315T081441Z
LAST-MODIFIED:20250320T104438Z
UID:53-1753455600-1753686000@bailaragusto.com
SUMMARY:BCN Dance Life HOT Weekend - July 2025
DESCRIPTION:Dear BCN Dance LIFE 💝💝💝💝 family. \nThe hottest reunion ever is coming up…🔥🔥🔥🔥 \n💃🏼💃🏼BCN DANCE LIFE HOT WEEKEND 💃🏼💃🏼🏼. \nVERY IMPORTANT: we will not return the amount of any ticket purchased due to circumstances beyond the control of the event. Refunds will only be issued in case of cancellation of the event. \nWe are very pleased to be able to start a new era\, to live again\, to dance again… \nDo not think or ask too much\, book fast\, it will be sold out in no time! \nCome and be part of the most important episode of our lives!! \nBcn Dance Life \nTickets: https://www.goandance.com/en/e/7224?promoter=GUSTAVOPND
URL:https://bailaragusto.com/event/bcn-dance-life-hot-weekend-july-2025/
LOCATION:Hotel Don Angel\, Carrer del Pla de la Torre\, 14\, Santa Susanna Barcelona\, Catalonia\, 08398\, Spain
CATEGORIES:Festivals
ATTACH;FMTTYPE=image/jpeg:https://bailaragusto.com/wp-content/uploads/2025/03/bcn_hot_weekend.jpg
END:VEVENT
BEGIN:VEVENT
DTSTART;TZID=Europe/Berlin:20250615T180000
DTEND;TZID=Europe/Berlin:20250621T150000
DTSTAMP:20260426T020654
CREATED:20250314T083315Z
LAST-MODIFIED:20250320T104451Z
UID:41-1750010400-1750518000@bailaragusto.com
SUMMARY:Pure Bachata Beach Festival 2025
DESCRIPTION:🌴 Pure Bachata Beach Festival 2025 🌊 \nGet ready for the ultimate Bachata getaway at the stunning Costa Brava!\n📅 Dates: 15-21 June 2025\n🏖️ Location: Beachfront in Roses\, Spain \n✨ Highlights:\n– 6 nights & 7 days of dancing and fun\n– Daily pool parties and beach socials\n– Over 17 hours of dancing every day\n– All-Inclusive: 3 meals per day + cozy accommodations\n– Workshops with Europe’s top Artists like GERO & MIGLE\, CARLOS & CHLOE and FELIPA & TIAGO\n– DJ Husky\, Dj Pablo G\, Dj Obi and many more… \nDon’t miss this one-of-a-kind Bachata experience under the sun and stars! 💃🕺 \nWebsite: www.pure-bachata.com \nTickets: https://www.goandance.com/es/e/7742?promoter=GUSTAVO
URL:https://bailaragusto.com/event/pure-bachata-beach-festival-2025/
LOCATION:Hotel Marian\, Avinguda del Salatar\, Roses\, near Barcelona or Girona\, Girona\, 17480\, Spain
CATEGORIES:Festivals
ATTACH;FMTTYPE=image/png:https://bailaragusto.com/wp-content/uploads/2025/03/pure.png
END:VEVENT
BEGIN:VEVENT
DTSTART;TZID=Europe/Berlin:20250523T180000
DTEND;TZID=Europe/Berlin:20250526T020000
DTSTAMP:20260426T020654
CREATED:20250313T214612Z
LAST-MODIFIED:20250320T104509Z
UID:36-1748023200-1748224800@bailaragusto.com
SUMMARY:DJ Got Us Falling in Love 2025
DESCRIPTION:Description\n\n\n\n\n🐯 Ready for the ROAR in 2025 ? \n✅ Follow us on instagram & stay updated \n🔗 www.instagram.com/dj.gufil.b \n➖ \n🐯 Payments (All Passes + Hotel Package) \n👉 Click here to see all the prices ! \n🌟 Only through our official partners GO&DANCE\nhttps://www.goandance.com/en/events/7044-dj-got-us-fallin-in-love-2025-official-bachata-all-in-one-edition\nPromocode: Gustavo \n➖ \n🐯 𝐓𝐎𝐏 𝐇𝐢𝐠𝐡𝐥𝐢𝐠𝐡𝐭𝐬 \n➖ \n🐅 All in one LOCATION Bachata dance festival \n🐅 The Hotel & Location is situated in Motorworld Böblingen \n👉 https://motorworld.de/region-stuttgart/ \n➖ \n🐅 The biggest BACHATA SOCIAL in GERMANY \n🐅 The biggest BACHATA OPEN AIR in GERMANY \n🐅 More than 1000 Parking spaces at the location \n🐅 The Official Pre-Party with 2 Floors : 22.05.2024 \n👉 Location for preparty : www.wonders-club.de \n👉 Not included in Fullpass nor Fullpartypass \n➖ \n🏨 Main Hotel : V8 4 Star Hotel \n👉 www.v8hotel.de \n✅ Enjoy the Luxury with the best Price \n🏢 All workshops\, parties & socials will take place in the LEGENDENHALLE : Graf-Zeppelin-Platz\, 71034 Böblingen \n➖ \n🐯 Payments ( All Passes + Hotel Packet ) \n🌟 Only through our official partners GO&DANCE : \n➖ \n🐯 Artists lineup ( Bachata artists ) \n➖ \n🤩 Bachata Teachers \n➖ \n★ Cornel & Rithika \nwww.instagram.com/cornelrithika_official/ \n★ Carlos & Chloe \nwww.instagram.com/carlosychloebachata/ \n★ Willy & Noura \nwww.instagram.com/willy_y_noura/ \n★ Owen & Eva \nwww.instagram.com/owenyeva/ \n★ Lisa & York \nwww.instagram.com/lisayyorkbachata/ \n★ Migo & Milena \nwww.instagram.com/migo.bachatero/ \n★ Kevin & Sophie \nwww.instagram.com/kevcds/ \n★ Sonu & Sara \nwww.instagram.com/sonu_bachata/ \nwww.instagram.com/saara.di/ \n★ Rene & Britta \nwww.instagram.com/reneybritta/ \n★ Emerson & Anna Milite \nwww.instagram.com/milite_anna_bachata/ \nwww.instagram.com/emerson_oliveira_dance/ \n➖ \n🤩 Bachata Deejays \n➖ \n★ DJ York \nwww.instagram.com/djyork_er \n★ DJ Manuel Citro \nwww.instagram.com/djmanuelcitro \n★ DJ Dimensions \nwww.instagram.com/dj.dimen5ions \n★ DJ Nico \nwww.instagram.com/djnico_bachata/ \n★ DJ Pablo G \nwww.instagram.com/pablog_bachata/ \n★ DJ Nassos B \nwww.instagram.com/djnassosb/ \n★ DJane Dia \nwww.instagram.com/dj.dia92/ \n★ DJ Chilli \nwww.instagram.com/gianfranco__amato/ \n➖ \n🤩 Media \n➖ \n★ Legacy Media \nwww.instagram.com/legacy_agency_off/ \n★ 32 Beats production \nwww.instagram.com/32_beats_production/ \n★ Polina \nwww.instagram.com/polina_sebrek/ \n★ Social dance europe \nwww.instagram.com/social_dance_europe/ \n★ Social dance Moments \nwww.instagram.com/social.dance.moments/ \n➖ \n🐯 Location \n➖ \n★ Important links : \n👉 www.v8hotel.de \n👉 www.grm-locations.com/legendenhalle \n👉 www.motorworld.de/region-stuttgart \n👉https://data.system360gmbh.de/vrs_tour/motorworld_stuttgart/ \n➖ \n🐯 Travel \n➖ \n★ Location (S Bahn train stop / Haltestelle) – Böblingen \n★ Böblingen train stop to the Location – 5 min walking distance \n★ Stuttgart main train station (HBF) to Böblingen – 23 min train ride \n★ Stuttgart Airport to Böblingen – 23 min train ride \n★ Car : Location is situated at the exit of Highway/Autobahn ( A 81 ) \n★ Important links : \n👉 www.bahnhof.de/boeblingen \n👉 www.vvs.de \n➖ \n🐯 Food & Drinks \n➖ \n★ We believe in quality with an affordable price. \n★ Our catering partner the V8 HOTEL will offer you the best cuisine during your stay at the festival \n★ Good quality drinks will be offered to you during the stay at the festival \n➖ \n🐯 Artists during socials & parties \n➖ \n★ We make sure that the artists are treated very well. \n★ A good treatment at the festival gives the artists a positive boost to stay longer during socials & parties. \n➖ \n🐯 Ratio during workshops & parties (Guest Dancers) \n➖ \n★ Our goal is to achieve a 50-50 ratio among Leaders & Followers. \n★ We as a team have proven more than 1 time that a satisfying balance can be achieved. Thanks to the success of the previous editions of BachaKizz Sensation\, Dansecercy\, DJ Got us Fallin in love & Make Some Noise.
URL:https://bailaragusto.com/event/dj-got-us-falling-in-love-2025/
LOCATION:Legendenhalle\, Graf-Zeppelin-Platz\, Böblingen\, Baden-Württemberg\, 71034\, Germany
CATEGORIES:Festivals
ATTACH;FMTTYPE=image/png:https://bailaragusto.com/wp-content/uploads/2025/03/DJ_got_2.png
END:VEVENT
BEGIN:VEVENT
DTSTART;TZID=Europe/Berlin:20250404T190000
DTEND;TZID=Europe/Berlin:20250407T013000
DTSTAMP:20260426T020654
CREATED:20250313T204755Z
LAST-MODIFIED:20250320T104533Z
UID:23-1743793200-1743989400@bailaragusto.com
SUMMARY:Bachaflow Munich 2025 Musicality Edition
DESCRIPTION:Master Bachata Musicality in 3 Days\nJoin Munich’s Most Immersive Dance Experience – Perfect for Beginners to Advanced \nDiscover how Bachata music is constructed with real musicians\, connect deeply with the rhythm\, and join many musicality and styling classes. \n💡 Why You Can’t Miss Bachaflow: \n✨ 15+ Workshops  – Learn in more than 15 workshops new moves and knowledge and improve your understanding of Bachata. \n✨ 10 Top Artists  – Europe’s top artists will show you what you need to know to dance with musicality and flow from now on. \n✨ 3 Nights of Incredible Parties – Dance from Friday to Sunday\, including exclusive day socials to keep the energy going all weekend! \n✨ Spectacular Shows & Specials – Enjoy unique performances and exciting drink specials throughout the event. \n✨ Limited Availability – Only 50 Party Passes available! Secure yours now to access all night parties + day socials. \n🎟 Grab yours before they’re gone!\nwww.bachaflow.com \nPromo Code: GUSHDG\n(Capital letters)
URL:https://bailaragusto.com/event/bachaflow-munich-2025-musicality-edition/
LOCATION:Kult Tanzstudio\, Neuhauser Str. 15\, Munich\, Bavaria\, 80331\, Germany
CATEGORIES:Festivals
ATTACH;FMTTYPE=image/jpeg:https://bailaragusto.com/wp-content/uploads/2025/03/bachaflow.jpg
END:VEVENT
BEGIN:VEVENT
DTSTART;TZID=Europe/Berlin:20250315T120000
DTEND;TZID=Europe/Berlin:20250316T020000
DTSTAMP:20260426T020654
CREATED:20250313T105622Z
LAST-MODIFIED:20250319T065440Z
UID:14-1742040000-1742090400@bailaragusto.com
SUMMARY:Munich Bachata Day 4th edition 2025
DESCRIPTION:Welcome to the 4th Edition of Munich Bachata Day! \nDate: March 15th\, 2025\nLocation: KUNSTLABOR 2\, Dachauer Straße 90\, 80335 Munich\nEarly Bird Ticket: €45 – includes all workshops & party! – SOLD OUT!\nFullpasses incl. Workshops & Party: €55 bis 31.01.2025\n \n​ \n🎉 Event Overview\nThis year\, we’re thrilled to present an exciting lineup and immersive Bachata experience! Munich Bachata Day is back for its 4th year\, bringing the energy and diversity of the Bachata world right to the heart of Munich. Join us as we gather dancers\, artists\, and enthusiasts from across the globe for a weekend full of movement\, connection\, and unforgettable memories. \n​ \n🌟 Featured Artists\nWe are excited to welcome Mijat y Milica\, the renowned influencer-style Sensual Bachata duo! Known for their innovative style and captivating stage presence\, Mijat and Milica blend influencer finesse with the smooth\, expressive quality of Sensual Bachata. Get ready for inspiring workshops\, fresh insights\, and plenty of takeaways to elevate your Bachata journey! \n​ \n💃 Workshop Leaders\nAlongside Mijat y Milica\, Emerson and Pablo will be teaching as well Migo & Milena\, bringing their signature techniques and passion to the floor. Whether you’re new to Bachata or a seasoned dancer\, our workshops offer something for everyone – from essential foundations to advanced styling and movement. \n​ \n🎶 DJ Lineup\nGet ready to dance all night to the beats of DJ Loots and DJ Bullet! Known for their seamless blends and high-energy mixes\, they’ll be setting the perfect atmosphere for an epic Bachata party. \n🎟️ Ticket Information\nEarly bird tickets are available now for just €45 – giving you access to all workshops and the evening party! Don’t miss out on this limited-time offer to secure your spot and experience Munich Bachata Day like never before. \n!!! Prices increase on 07.01. ​!!! \n🌐 Reserve Your Spot Now\nReady to take your Bachata to the next level? Click here to register and join us for the 4th edition of Munich Bachata Day! \n\n\nLocation\nKunstlabor 2\, 80335 Munich \nTickets:\nhttps://www.tickettailor.com/events/munichbachataday/1453490 \nPromocode: Gustavo
URL:https://bailaragusto.com/event/munich-bachata-day-4th-edition-2025/
LOCATION:Munich Bachata Day\, Dachauer Straße 90\, Munich\, Bavaria\, 80335\, Germany
ATTACH;FMTTYPE=image/jpeg:https://bailaragusto.com/wp-content/uploads/2025/03/Munich_Bachata_Event.jpg
END:VEVENT
END:VCALENDAR