BEGIN:VCALENDAR
VERSION:2.0
PRODID:-//bailaragusto.com - ECPv6.15.20//NONSGML v1.0//EN
CALSCALE:GREGORIAN
METHOD:PUBLISH
X-ORIGINAL-URL:https://bailaragusto.com
X-WR-CALDESC:Events for bailaragusto.com
REFRESH-INTERVAL;VALUE=DURATION:PT1H
X-Robots-Tag:noindex
X-PUBLISHED-TTL:PT1H
BEGIN:VTIMEZONE
TZID:Europe/Berlin
BEGIN:DAYLIGHT
TZOFFSETFROM:+0100
TZOFFSETTO:+0200
TZNAME:CEST
DTSTART:20250330T010000
END:DAYLIGHT
BEGIN:STANDARD
TZOFFSETFROM:+0200
TZOFFSETTO:+0100
TZNAME:CET
DTSTART:20251026T010000
END:STANDARD
BEGIN:DAYLIGHT
TZOFFSETFROM:+0100
TZOFFSETTO:+0200
TZNAME:CEST
DTSTART:20260329T010000
END:DAYLIGHT
BEGIN:STANDARD
TZOFFSETFROM:+0200
TZOFFSETTO:+0100
TZNAME:CET
DTSTART:20261025T010000
END:STANDARD
BEGIN:DAYLIGHT
TZOFFSETFROM:+0100
TZOFFSETTO:+0200
TZNAME:CEST
DTSTART:20270328T010000
END:DAYLIGHT
BEGIN:STANDARD
TZOFFSETFROM:+0200
TZOFFSETTO:+0100
TZNAME:CET
DTSTART:20271031T010000
END:STANDARD
END:VTIMEZONE
BEGIN:VEVENT
DTSTART;TZID=Europe/Berlin:20260114T080000
DTEND;TZID=Europe/Berlin:20260119T070000
DTSTAMP:20260426T040157
CREATED:20251113T190200Z
LAST-MODIFIED:20251113T190200Z
UID:98-1768377600-1768806000@bailaragusto.com
SUMMARY: BACHATA SENSUAL WORLD CONGRESS 2026 (BSWC)
DESCRIPTION:📍 BACHATA SENSUAL WORLD CONGRESS 2026 (BSWC)\n🗓 14 – 19TH JANUARY 2025 – PUNTA UMBRIA\, HUELVA (SEVILLA\, ANDALUCIA SPAIN)\n🔥 Promo Discount Available\n🆕 IMPORTANT! Change of Date. Venue also continues in Andalucia – Huelva. \n4th edition of Bachata Sensual World Congress. The 2026 Congress\, The #1 Bachata Sensual Event in the world\, by Korke & Judit will repeat this year again in Punta Umbria\, huelva\, Andalucia instead of their original in Lloret de Mar (Costa Brava). The newest edition will bring some updates: with a Jack & Jill Sensual competition\, concert and more hours of Socials to gather fans of Bachata Sensual from all over the world. You will be able to meet top level social dancers & instructors from all over the world. It’s still a not-to-be-missed in our list. \nExperience something unparalleled: \n\nMasterclasses and high-level training taught by the pioneers of Bachata Sensual.\n14 hours of day socials every day – Keep dancing all day (and all night ?).\nSurprise shows + J&J Finals.\nAfterparty for the unstoppable dancers – Until 9 AM! ?\nThis year\, don’t just hear about it—be there!\n\nThe event kicks off with the Official Pre-Party on January 14 at the event’s hotel. \nBook the hotel: https://www.goandance.com/es/eventos/8052-bswc-2026-hotel-reserva \nMore info on our official website: www.bswcongress.com
URL:https://bailaragusto.com/event/bachata-sensual-world-congress-2026-bswc/
LOCATION:Barceló Punta Umbría Mar\, Av. del Océano\, s/n\, Punta Umbría\, Huelva\, 21100\, Spain
CATEGORIES:Festivals
ATTACH;FMTTYPE=image/jpeg:https://bailaragusto.com/wp-content/uploads/2025/11/BSWC_2026.jpg
END:VEVENT
END:VCALENDAR